BEGIN:VCALENDAR
VERSION:2.0
PRODID:-//Tukios.com/
BEGIN:VEVENT
UID:24f563b0-fbd4-4822-bc1b-0aaeaff87efc@www.peeblesfuneralhome.com
DTSTAMP:20260422T012407Z
DTSTART:20260424T190000Z
DTEND:20260424T200000Z
SUMMARY:Funeral Service
DESCRIPTION:
URL:https://www.peeblesfuneralhome.com/obituaries/donnie-culver-sr
LOCATION: 10670 US Highway 64  Somerville TN 38068
GEO:35.232108;-89.4599088
END:VEVENT
END:VCALENDAR