BEGIN:VCALENDAR
VERSION:2.0
PRODID:-//Tukios.com/
BEGIN:VEVENT
UID:0e1053ad-5e10-4d06-a55c-d45a38c1ca34@www.peeblesfuneralhome.com
DTSTAMP:20260422T012103Z
DTSTART:20260424T170000Z
DTEND:20260424T190000Z
SUMMARY:Visitation
DESCRIPTION:
URL:https://www.peeblesfuneralhome.com/obituaries/donnie-culver-sr
LOCATION: 10670 US Highway 64  Somerville TN 38068
GEO:35.232108;-89.4599088
END:VEVENT
END:VCALENDAR