BEGIN:VCALENDAR
VERSION:2.0
PRODID:-//Tukios.com/
BEGIN:VEVENT
UID:7fe32e04-8c15-4769-85fd-ddd9a2e173bc@www.peeblesfuneralhome.com
DTSTAMP:20260422T011606Z
DTSTART:20260424
SUMMARY:Burial
DESCRIPTION:
URL:https://www.peeblesfuneralhome.com/obituaries/donnie-culver-sr
LOCATION: 10672 U.S. 64  Somerville TN 38068
GEO:35.2316516;-89.4548766
END:VEVENT
END:VCALENDAR