BEGIN:VCALENDAR
VERSION:2.0
PRODID:-//Tukios.com/
BEGIN:VEVENT
UID:de0122c6-c543-48f2-83a2-55e79216f0f6@www.peeblesfuneralhome.com
DTSTAMP:20260420T225056Z
DTSTART:20260426T190000Z
DTEND:20260426T200000Z
SUMMARY:Visitation
DESCRIPTION:
URL:https://www.peeblesfuneralhome.com/obituaries/janette-deaton
LOCATION: 12685 South Main Street  Somerville TN 38068
GEO:35.2395974;-89.3507421
END:VEVENT
END:VCALENDAR