BEGIN:VCALENDAR
VERSION:2.0
PRODID:-//Tukios.com/
BEGIN:VEVENT
UID:fc3e323a-d1e2-4f44-8993-582b0740b5df@www.peeblesfuneralhome.com
DTSTAMP:20260420T225703Z
DTSTART:20260426T200000Z
DTEND:20260426T210000Z
SUMMARY:Celebration of Life
DESCRIPTION:
URL:https://www.peeblesfuneralhome.com/obituaries/janette-deaton
LOCATION: 12685 South Main Street  Somerville TN 38068
GEO:35.2395974;-89.3507421
END:VEVENT
END:VCALENDAR