BEGIN:VCALENDAR
VERSION:2.0
PRODID:-//Tukios.com/
BEGIN:VEVENT
UID:65711466-eefb-4104-9b00-3852b8b2ba4e@www.peeblesfuneralhome.com
DTSTAMP:20260421T205624Z
DTSTART:20260425T180000Z
DTEND:20260425T190000Z
SUMMARY:Visitation
DESCRIPTION:
URL:https://www.peeblesfuneralhome.com/obituaries/rufus-hollingsworth
LOCATION: 10670 US Highway 64  Somerville TN 38068
GEO:35.232108;-89.4599088
END:VEVENT
END:VCALENDAR