BEGIN:VCALENDAR
VERSION:2.0
PRODID:-//Tukios.com/
BEGIN:VEVENT
UID:ab2b392a-23fc-4bb9-984e-13e764410f51@www.peeblesfuneralhome.com
DTSTAMP:20260421T205605Z
DTSTART:20260425T190000Z
DTEND:20260425T200000Z
SUMMARY:Funeral Service
DESCRIPTION:
URL:https://www.peeblesfuneralhome.com/obituaries/rufus-hollingsworth
LOCATION: 10670 US Highway 64  Somerville TN 38068
GEO:35.232108;-89.4599088
END:VEVENT
END:VCALENDAR