BEGIN:VCALENDAR
VERSION:2.0
PRODID:-//Tukios.com/
BEGIN:VEVENT
UID:d8dc1380-05c4-4b7c-aec1-2d7943ffeea4@www.peeblesfuneralhome.com
DTSTAMP:20260421T205024Z
DTSTART:20260508T160000Z
DTEND:20260508T163000Z
SUMMARY:Burial
DESCRIPTION:
URL:https://www.peeblesfuneralhome.com/obituaries/rufus-hollingsworth
LOCATION: 4000 Forest Hill Irene Road  Memphis TN 38125
GEO:35.0395914;-89.7596428
END:VEVENT
END:VCALENDAR