BEGIN:VCALENDAR
VERSION:2.0
PRODID:-//Tukios.com/
BEGIN:VEVENT
UID:7e24e018-36af-4d2a-979c-cad4f579b083@www.peeblesfuneralhome.com
DTSTAMP:20260420T220613Z
DTSTART:20260429T150000Z
DTEND:20260429T160000Z
SUMMARY:Visitation
DESCRIPTION:
URL:https://www.peeblesfuneralhome.com/obituaries/tina-houston
LOCATION: 18020 US Highway 64  Somerville TN 38068
GEO:35.2418909;-89.328439
END:VEVENT
END:VCALENDAR