BEGIN:VCALENDAR
VERSION:2.0
PRODID:-//Tukios.com/
BEGIN:VEVENT
UID:f16873f6-0fc7-48ac-830d-878ca8e97850@www.peeblesfuneralhome.com
DTSTAMP:20260420T220917Z
DTSTART:20260429T160000Z
DTEND:20260429T170000Z
SUMMARY:Memorial Service
DESCRIPTION:
URL:https://www.peeblesfuneralhome.com/obituaries/tina-houston
LOCATION: 18020 US Highway 64  Somerville TN 38068
GEO:35.2418909;-89.328439
END:VEVENT
END:VCALENDAR